BEGIN:VCALENDAR
VERSION:2.0
PRODID:-//Croix Blanche St Nazaire - ECPv6.15.20//NONSGML v1.0//EN
CALSCALE:GREGORIAN
METHOD:PUBLISH
X-ORIGINAL-URL:https://croixblanche-st-nazaire.org
X-WR-CALDESC:Évènements pour Croix Blanche St Nazaire
REFRESH-INTERVAL;VALUE=DURATION:PT1H
X-Robots-Tag:noindex
X-PUBLISHED-TTL:PT1H
BEGIN:VTIMEZONE
TZID:Europe/Paris
BEGIN:DAYLIGHT
TZOFFSETFROM:+0100
TZOFFSETTO:+0200
TZNAME:CEST
DTSTART:20250330T010000
END:DAYLIGHT
BEGIN:STANDARD
TZOFFSETFROM:+0200
TZOFFSETTO:+0100
TZNAME:CET
DTSTART:20251026T010000
END:STANDARD
BEGIN:DAYLIGHT
TZOFFSETFROM:+0100
TZOFFSETTO:+0200
TZNAME:CEST
DTSTART:20260329T010000
END:DAYLIGHT
BEGIN:STANDARD
TZOFFSETFROM:+0200
TZOFFSETTO:+0100
TZNAME:CET
DTSTART:20261025T010000
END:STANDARD
BEGIN:DAYLIGHT
TZOFFSETFROM:+0100
TZOFFSETTO:+0200
TZNAME:CEST
DTSTART:20270328T010000
END:DAYLIGHT
BEGIN:STANDARD
TZOFFSETFROM:+0200
TZOFFSETTO:+0100
TZNAME:CET
DTSTART:20271031T010000
END:STANDARD
END:VTIMEZONE
BEGIN:VEVENT
DTSTART;TZID=Europe/Paris:20260324T083000
DTEND;TZID=Europe/Paris:20260324T170000
DTSTAMP:20260423T224100
CREATED:20230909T110107Z
LAST-MODIFIED:20260210T112317Z
UID:2084-1774341000-1774371600@croixblanche-st-nazaire.org
SUMMARY:FC PSE
DESCRIPTION:Programme\nLe programme est défini annuellement par une instruction ministérielle. Pour l’année 2026\, il comporte les thématiques suivantes : \n\nOxygénothérapie\nMalaises et aggravation de maladie\nAide à la marche\nDéplacement d’une victime non valide\nAdopter les gestes de manutention\nMises en situation
URL:https://croixblanche-st-nazaire.org/event/fc-pse/
LOCATION:Locaux du bureau\, 50 rue de Pornichet\, Saint Nazaire\, 44600\, France
CATEGORIES:Formations,PSE
ATTACH;FMTTYPE=image/jpeg:https://croixblanche-st-nazaire.org/wp-content/uploads/2022/04/c-PSE2-FC.jpg
ORGANIZER;CN="Croix Blanche St Nazaire":MAILTO:cb44600@gmail.com
END:VEVENT
END:VCALENDAR