BEGIN:VCALENDAR
VERSION:2.0
PRODID:-//Croix Blanche St Nazaire - ECPv6.15.20//NONSGML v1.0//EN
CALSCALE:GREGORIAN
METHOD:PUBLISH
X-ORIGINAL-URL:https://croixblanche-st-nazaire.org
X-WR-CALDESC:Évènements pour Croix Blanche St Nazaire
REFRESH-INTERVAL;VALUE=DURATION:PT1H
X-Robots-Tag:noindex
X-PUBLISHED-TTL:PT1H
BEGIN:VTIMEZONE
TZID:Europe/Paris
BEGIN:DAYLIGHT
TZOFFSETFROM:+0100
TZOFFSETTO:+0200
TZNAME:CEST
DTSTART:20250330T010000
END:DAYLIGHT
BEGIN:STANDARD
TZOFFSETFROM:+0200
TZOFFSETTO:+0100
TZNAME:CET
DTSTART:20251026T010000
END:STANDARD
BEGIN:DAYLIGHT
TZOFFSETFROM:+0100
TZOFFSETTO:+0200
TZNAME:CEST
DTSTART:20260329T010000
END:DAYLIGHT
BEGIN:STANDARD
TZOFFSETFROM:+0200
TZOFFSETTO:+0100
TZNAME:CET
DTSTART:20261025T010000
END:STANDARD
BEGIN:DAYLIGHT
TZOFFSETFROM:+0100
TZOFFSETTO:+0200
TZNAME:CEST
DTSTART:20270328T010000
END:DAYLIGHT
BEGIN:STANDARD
TZOFFSETFROM:+0200
TZOFFSETTO:+0100
TZNAME:CET
DTSTART:20271031T010000
END:STANDARD
END:VTIMEZONE
BEGIN:VEVENT
DTSTART;TZID=Europe/Paris:20260223T083000
DTEND;TZID=Europe/Paris:20260227T170000
DTSTAMP:20260424T000846
CREATED:20240314T170838Z
LAST-MODIFIED:20250927T092453Z
UID:2395-1771835400-1772211600@croixblanche-st-nazaire.org
SUMMARY:PSE1
DESCRIPTION:Programme\nPrendre en charge une personne : \n\nRéaliser un bilan et assurer sa transmission aux services appropriés.\nRéaliser les gestes de premiers secours face à une personne.\n\nAssurer\, au sein d’une équipe : \n\nAssister des équipiers secouristes\, lors d’une manœuvre d’immobilisation\, de relevage ou de brancardage.\n\nDe coordonner les actions de secours: \n\nEvoluer dans le cadre juridique applicable à son action de secours et dans le respect des procédures définies par son autorité d’emploi.\nAssurer une protection immédiate\, adaptée et permanente\, pour lui-même\, la victime et les autres personnes des dangers environnants.\nD’adapter son comportement à la situation ou à l’état de la victime.
URL:https://croixblanche-st-nazaire.org/event/pse1-2/
LOCATION:Locaux du bureau\, 50 rue de Pornichet\, Saint Nazaire\, 44600\, France
CATEGORIES:Formations,PSE
ATTACH;FMTTYPE=image/jpeg:https://croixblanche-st-nazaire.org/wp-content/uploads/2022/04/c-PSE1.jpg
ORGANIZER;CN="Croix Blanche St Nazaire":MAILTO:cb44600@gmail.com
END:VEVENT
END:VCALENDAR